BEGIN:VCALENDAR
VERSION:2.0
PRODID:icalendar-ruby
CALSCALE:GREGORIAN
METHOD:PUBLISH
BEGIN:VEVENT
DTSTAMP:20260422T110149Z
UID:11-240185@thecity202.tithelysetup5.com
DTSTART:20260816T131500Z
DTEND:20260816T143000Z
CLASS:PUBLIC
CREATED:20260421T213210
DESCRIPTION:
LAST-MODIFIED:20260421T213210
LOCATION:304 Muldee St. Durham\, NC
SUMMARY:Sunday Worship Experience
URL;VALUE=URI:https://mycityministries.com/events/sunday-worship-experience
 /2026-08-16
END:VEVENT
END:VCALENDAR
