BEGIN:VCALENDAR
VERSION:2.0
PRODID:icalendar-ruby
CALSCALE:GREGORIAN
METHOD:PUBLISH
BEGIN:VEVENT
DTSTAMP:20260422T123237Z
UID:11-240186@thecity202.tithelysetup5.com
DTSTART:20260823T131500Z
DTEND:20260823T143000Z
CLASS:PUBLIC
CREATED:20260421T213210
DESCRIPTION:
LAST-MODIFIED:20260421T213210
LOCATION:304 Muldee St. Durham\, NC
SUMMARY:Sunday Worship Experience
URL;VALUE=URI:https://mycityministries.com/events/sunday-worship-experience
 /2026-08-23
END:VEVENT
END:VCALENDAR
