BEGIN:VCALENDAR
VERSION:2.0
PRODID:icalendar-ruby
CALSCALE:GREGORIAN
METHOD:PUBLISH
BEGIN:VEVENT
DTSTAMP:20260422T154409Z
UID:11-240294@thecity202.tithelysetup5.com
DTSTART:20260906T131500Z
DTEND:20260906T143000Z
CLASS:PUBLIC
CREATED:20260422T113528
DESCRIPTION:
LAST-MODIFIED:20260422T113528
LOCATION:304 Muldee St. Durham\, NC
SUMMARY:Sunday Worship Experience
URL;VALUE=URI:https://mycityministries.com/events/sunday-worship-experience
 /2026-09-06
END:VEVENT
END:VCALENDAR
