BEGIN:VCALENDAR
VERSION:2.0
PRODID:icalendar-ruby
CALSCALE:GREGORIAN
METHOD:PUBLISH
BEGIN:VEVENT
DTSTAMP:20260422T202409Z
UID:11-240350@thecity202.tithelysetup5.com
DTSTART:20260927T131500Z
DTEND:20260927T143000Z
CLASS:PUBLIC
CREATED:20260422T143003
DESCRIPTION:
LAST-MODIFIED:20260422T143003
LOCATION:304 Muldee St. Durham\, NC
SUMMARY:Sunday Worship Experience
URL;VALUE=URI:https://mycityministries.com/events/sunday-worship-experience
 /2026-09-27
END:VEVENT
END:VCALENDAR
