BEGIN:VCALENDAR
VERSION:2.0
PRODID:icalendar-ruby
CALSCALE:GREGORIAN
METHOD:PUBLISH
BEGIN:VEVENT
DTSTAMP:20260422T220206Z
UID:11-240404@thecity202.tithelysetup5.com
DTSTART:20261004T131500Z
DTEND:20261004T143000Z
CLASS:PUBLIC
CREATED:20260422T172525
DESCRIPTION:
LAST-MODIFIED:20260422T172525
LOCATION:304 Muldee St. Durham\, NC
SUMMARY:Sunday Worship Experience
URL;VALUE=URI:https://mycityministries.com/events/sunday-worship-experience
 /2026-10-04
END:VEVENT
END:VCALENDAR
