BEGIN:VCALENDAR
VERSION:2.0
PRODID:icalendar-ruby
CALSCALE:GREGORIAN
METHOD:PUBLISH
BEGIN:VEVENT
DTSTAMP:20260423T020658Z
UID:11-240460@thecity202.tithelysetup5.com
DTSTART:20261025T131500Z
DTEND:20261025T143000Z
CLASS:PUBLIC
CREATED:20260422T201655
DESCRIPTION:
LAST-MODIFIED:20260422T201655
LOCATION:304 Muldee St. Durham\, NC
SUMMARY:Sunday Worship Experience
URL;VALUE=URI:https://mycityministries.com/events/sunday-worship-experience
 /2026-10-25
END:VEVENT
END:VCALENDAR
