BEGIN:VCALENDAR
VERSION:2.0
PRODID:icalendar-ruby
CALSCALE:GREGORIAN
METHOD:PUBLISH
BEGIN:VEVENT
DTSTAMP:20260423T033154Z
UID:11-240514@thecity202.tithelysetup5.com
DTSTART:20261101T141500Z
DTEND:20261101T153000Z
CLASS:PUBLIC
CREATED:20260422T231119
DESCRIPTION:
LAST-MODIFIED:20260422T231119
LOCATION:304 Muldee St. Durham\, NC
SUMMARY:Sunday Worship Experience
URL;VALUE=URI:https://mycityministries.com/events/sunday-worship-experience
 /2026-11-01
END:VEVENT
END:VCALENDAR
